BEGIN:VCALENDAR
VERSION:2.0
PRODID:-//Gradska knjižnica Slavonski Brod - ECPv6.2.2.1//NONSGML v1.0//EN
CALSCALE:GREGORIAN
METHOD:PUBLISH
X-ORIGINAL-URL:https://gksb.hr
X-WR-CALDESC:Događaji za Gradska knjižnica Slavonski Brod
REFRESH-INTERVAL;VALUE=DURATION:PT1H
X-Robots-Tag:noindex
X-PUBLISHED-TTL:PT1H
BEGIN:VTIMEZONE
TZID:Europe/Zagreb
BEGIN:DAYLIGHT
TZOFFSETFROM:+0100
TZOFFSETTO:+0200
TZNAME:CEST
DTSTART:20250330T010000
END:DAYLIGHT
BEGIN:STANDARD
TZOFFSETFROM:+0200
TZOFFSETTO:+0100
TZNAME:CET
DTSTART:20251026T010000
END:STANDARD
END:VTIMEZONE
BEGIN:VEVENT
DTSTART;TZID=Europe/Zagreb:20251212T180000
DTEND;TZID=Europe/Zagreb:20251212T190000
DTSTAMP:20260422T150435
CREATED:20251202T112828Z
LAST-MODIFIED:20251202T115554Z
UID:6978-1765562400-1765566000@gksb.hr
SUMMARY:BOŽIĆNA POEZIJA POD ZVIJEZDAMA!
DESCRIPTION:Pozivamo vas na večer poezije BOŽIĆNA POEZIJA POD ZVIJEZDAMA! 🌃🌨️🌫️\n⏰Program počinje u 18 sati! \nPridružite nam se u Snježnoj kupoli u kojoj će umjesto pahulja čaroliju prosuti poezija! 🔮❄️📚 \nPrijava na odnosisjavnoscu.gksb@gmail.com
URL:https://gksb.hr/event/bozicna-poezija-pod-zvijezdama/
CATEGORIES:Najave
ATTACH;FMTTYPE=image/png:https://gksb.hr/wp-content/uploads/2025/12/BOZICNA-POEZIJA-POD-ZVIJEZDAMA_POZIV.png
END:VEVENT
END:VCALENDAR