BEGIN:VCALENDAR
VERSION:2.0
PRODID:-//Gradska knjižnica Slavonski Brod - ECPv6.2.2.1//NONSGML v1.0//EN
CALSCALE:GREGORIAN
METHOD:PUBLISH
X-WR-CALNAME:Gradska knjižnica Slavonski Brod
X-ORIGINAL-URL:https://gksb.hr
X-WR-CALDESC:Događaji za Gradska knjižnica Slavonski Brod
REFRESH-INTERVAL;VALUE=DURATION:PT1H
X-Robots-Tag:noindex
X-PUBLISHED-TTL:PT1H
BEGIN:VTIMEZONE
TZID:Europe/Zagreb
BEGIN:DAYLIGHT
TZOFFSETFROM:+0100
TZOFFSETTO:+0200
TZNAME:CEST
DTSTART:20260329T010000
END:DAYLIGHT
BEGIN:STANDARD
TZOFFSETFROM:+0200
TZOFFSETTO:+0100
TZNAME:CET
DTSTART:20261025T010000
END:STANDARD
END:VTIMEZONE
BEGIN:VEVENT
DTSTART;VALUE=DATE:20260204
DTEND;VALUE=DATE:20260226
DTSTAMP:20260420T122521
CREATED:20260205T124433Z
LAST-MODIFIED:20260205T124433Z
UID:7046-1770163200-1772063999@gksb.hr
SUMMARY:BRODSKA dONKOlica
DESCRIPTION:Poštovani\,\n\npredstavljamo vam projekt “BRODSKA dONKOlica” u sklopu kojega smo vam priredili pregršt aktivnosti.\nZa početak:\n\n\nBrodska dONKOlica nastala je kao logičan slijed dvogodišnjeg provođenja projekta „Kreativne radionice za onkološke bolesnike“ s revitalizacijom i nekim projektnim promjenama. \nKreativne radionice je pokrenula i koordinirala dr. Ruža Brešić Pudar na čemu joj zahvaljujemo.\n\n\nNaime\, pokazala se potreba za proširenjem ciljne skupine\, stoga je sadržaj osim onkološkim pacijentima\, namijenjen i podršci bilo da se radi o ljudima iz neposredne blizine oboljelih ili pak javnosti koja je osjetljiva na onkološke teme i/ili konstruktivno provođenje slobodnog vremena.\n\n\nRiječ „dONKOlica“ je igra riječi koja ima određenu lakoću u zvuku\, a opet ne isključuje važnu informaciju: onu kome su programi namijenjeni i tko je organizator. S druge strane komunicira temu slobodnog vremena kroz riječ ”dokolica”.\n\n\nNaime\, Hrvatski jezični portal navodi da je „DOKOLICA“ „slobodno vrijeme\, odnosno vrijeme provedeno izvan posla\, obaveza i obrazovanja. To je period odmora\, opuštanja i neopterećenog razmišljanja koji omogućuje mentalni i emotivni oporavak te potiče kreativnost.“\n\n\nBrodsku dONKOlicu financira Pliva\, a nastala je kao rezultat suradnje s udrugama onkoloških pacijenata : udruga Nada\, udruga Ilco te Hrvatska udruga leukemija i limfomi Podružnica Slavonski Brod.\n\n\nPartneri u provedbi projekta su Gradska knjižnica Slavonski Brod\, Gradsko društvo Crvenog križa \, Parasportski savez Sportskog saveza invalida Slavonskog Broda\n\n\nKroz dvije godine očekuje vas pregršt aktivnosti koje ćemo mjesečno objavljivati!\nPRIDRUŽITE NAM SE!\nNapomena: Informacije o projektu i prijavi na radionice možete pronaći i kontaktirati na https://www.facebook.com/ligabpz
URL:https://gksb.hr/event/brodska-donkolica/
CATEGORIES:Najave
ATTACH;FMTTYPE=image/jpeg:https://gksb.hr/wp-content/uploads/2026/02/Brodska-dONKOlica_veljaca.jpg
END:VEVENT
BEGIN:VEVENT
DTSTART;TZID=Europe/Zagreb:20260206T180000
DTEND;TZID=Europe/Zagreb:20260206T190000
DTSTAMP:20260420T122521
CREATED:20260128T093031Z
LAST-MODIFIED:20260128T093031Z
UID:7042-1770400800-1770404400@gksb.hr
SUMMARY:Dodjela nagrada za kratku humorističnu priču KLUPKO SMIJEHA 2026.
DESCRIPTION:Pozivamo Vas na svečanost dodjele nagrada za kratku humorističnu priču KLUPKO SMIJEHA 2026.  \nPosebno nam je drago najaviti da će se ova svečanost održati u Knjižnici u četvrtak\, 6. veljače 2026. godine s početkom u 18.00 sati i to kao prvi javni program u obnovljenom prostoru Knjižnice nakon provedene Energetske obnove. \nProgram će se odvijati u znaku smijeha\, riječi i dobre energije\, a kroz večer će nas voditi Silvio Stilinović; glazbom će vas obgrliti Bernarda Bobovečki. Ovim događajem Gradska knjižnica Slavonski Brod ponovno otvara svoja vrata publici\, slaveći književnost\, suradnju i novi početak u obnovljenom prostoru. Radujemo se Vašem dolasku i zajedničkom početku nove kulturne sezone!
URL:https://gksb.hr/event/dodjela-nagrada-za-kratku-humoristicnu-pricu-klupko-smijeha-2026/
CATEGORIES:Najave
ATTACH;FMTTYPE=image/png:https://gksb.hr/wp-content/uploads/2023/03/place.png
END:VEVENT
END:VCALENDAR