BEGIN:VCALENDAR
VERSION:2.0
PRODID:-//Gradska knjižnica Slavonski Brod - ECPv6.2.2.1//NONSGML v1.0//EN
CALSCALE:GREGORIAN
METHOD:PUBLISH
X-WR-CALNAME:Gradska knjižnica Slavonski Brod
X-ORIGINAL-URL:https://gksb.hr
X-WR-CALDESC:Događaji za Gradska knjižnica Slavonski Brod
REFRESH-INTERVAL;VALUE=DURATION:PT1H
X-Robots-Tag:noindex
X-PUBLISHED-TTL:PT1H
BEGIN:VTIMEZONE
TZID:Europe/Zagreb
BEGIN:DAYLIGHT
TZOFFSETFROM:+0100
TZOFFSETTO:+0200
TZNAME:CEST
DTSTART:20260329T010000
END:DAYLIGHT
BEGIN:STANDARD
TZOFFSETFROM:+0200
TZOFFSETTO:+0100
TZNAME:CET
DTSTART:20261025T010000
END:STANDARD
END:VTIMEZONE
BEGIN:VEVENT
DTSTART;TZID=Europe/Zagreb:20260304T170000
DTEND;TZID=Europe/Zagreb:20260304T180000
DTSTAMP:20260420T122616
CREATED:20260224T063959Z
LAST-MODIFIED:20260224T064101Z
UID:7078-1772643600-1772647200@gksb.hr
SUMMARY:Panel rasprava: „Poduzetništvo nije Instagram – realnost iza kulisa“
DESCRIPTION:Gošća večeri je Josipa Šimunović – poduzetnica iz Nove Gradiške\, formalno magistra hrvatskoga jezika\, specijalistica digitalnog marketinga i brendiranja te NLP Practitioner. \nPrivatno introvertica koja najviše voli svoj mir\, dobru knjigu i svoju obitelj – mama trojici dječaka i supruga. Upravo su izazovi usklađivanja ambicija i privatnog života obilježili njezin poduzetnički put. \n💬 Tema večeri: Realnost poduzetništva bez filtera \nPoduzetništvo na društvenim mrežama često izgleda glamurozno\, jednostavno i „posloženo“. No što se zapravo događa iza kulisa? \nNa radionici razgovaramo o: \n✔️ Najčešćim izazovima i preprekama u svakodnevici jedne poduzetnice \n✔️ Kako postaviti prioritete i čuvati svoje vrijeme (bez stalnog osjećaja krivnje) \n✔️ Postoji li uopće balans između obitelji i biznisa – i kako ga (realno) postići? \nDotaknut ćemo se i tema poput iscrpljenosti\, unutarnjih očekivanja\, pritiska okoline te važnosti podrške i zajednice u ženskom poduzetništvu. \nAko si poduzetnica\, mama ili žena koja pokušava pronaći način kako uskladiti ambicije i privatni život – ova je radionica za tebe. \nVidimo se 4. ožujka u 17:00 h! \nUlaz besplatan! \n📍 Gradska knjižnica Slavonski Brod
URL:https://gksb.hr/event/panel-rasprava-poduzetnistvo-nije-instagram-realnost-iza-kulisa/
CATEGORIES:Najave
ATTACH;FMTTYPE=image/png:https://gksb.hr/wp-content/uploads/2026/02/Najava-predavanja.png
END:VEVENT
END:VCALENDAR