BEGIN:VCALENDAR
VERSION:2.0
PRODID:-//Gradska knjižnica Slavonski Brod - ECPv6.2.2.1//NONSGML v1.0//EN
CALSCALE:GREGORIAN
METHOD:PUBLISH
X-ORIGINAL-URL:https://gksb.hr
X-WR-CALDESC:Događaji za Gradska knjižnica Slavonski Brod
REFRESH-INTERVAL;VALUE=DURATION:PT1H
X-Robots-Tag:noindex
X-PUBLISHED-TTL:PT1H
BEGIN:VTIMEZONE
TZID:Europe/Zagreb
BEGIN:DAYLIGHT
TZOFFSETFROM:+0100
TZOFFSETTO:+0200
TZNAME:CEST
DTSTART:20260329T010000
END:DAYLIGHT
BEGIN:STANDARD
TZOFFSETFROM:+0200
TZOFFSETTO:+0100
TZNAME:CET
DTSTART:20261025T010000
END:STANDARD
END:VTIMEZONE
BEGIN:VEVENT
DTSTART;TZID=Europe/Zagreb:20260115T180000
DTEND;TZID=Europe/Zagreb:20260115T190000
DTSTAMP:20260422T115807
CREATED:20260113T094909Z
LAST-MODIFIED:20260113T094909Z
UID:7011-1768500000-1768503600@gksb.hr
SUMMARY:Sastanak Čitateljske grupe
DESCRIPTION:Pozivamo vas na prvi ovogodišnji sastanak Čitateljske grupe koji će se održati u Knjižnici u četvrtak 15. siječnja 2026. godine u 18 sati. Čitateljsku godinu započinjemo uz jedno od najznačajnijih djela ruske književnosti\, Očevi i djeca autora Ivana Sergejeviča Turgenjeva.\n\n\n Roman otvara pitanja sukoba generacija\, društvenih promjena\, ideala i vrijednosti\, a Turgenjev nam kroz snažne likove donosi tekst koji je i danas iznimno aktualan. Veselimo se razmjeni dojmova i razgovoru o autorima i knjigama koje ćemo čitati ove godine.\n\n\n Dobrodošli su svi – dugogodišnji članovi\, ali i oni koji se tek žele priključiti\, bez obzira jeste li knjigu već pročitali ili to tek planirate.\n\n\n Napomena: Ako želite postati član Čitateljske grupe\, pošaljite upit voditelju grupe Hrvoju Gaži na e-mail: hgazo@yahoo.com i pridružite nam se.
URL:https://gksb.hr/event/sastanak-citateljske-grupe-4/
CATEGORIES:Najave
ATTACH;FMTTYPE=image/png:https://gksb.hr/wp-content/uploads/2026/01/Citateljska-grupa-5.png
END:VEVENT
BEGIN:VEVENT
DTSTART;VALUE=DATE:20260126
DTEND;VALUE=DATE:20260131
DTSTAMP:20260422T115807
CREATED:20260126T090436Z
LAST-MODIFIED:20260126T090436Z
UID:7034-1769385600-1769817599@gksb.hr
SUMMARY:FOTO NATJEČAJ: Rođeni za čitanje
DESCRIPTION:Postoje oni posebni trenuci koji se pamte cijeli život: miris knjige\, glas drage osobe koja čita i maleno stvorenje koje ga sluša. Pokažite nam vaš dragocjeni trenutak čitanja i sudjelujte u našem foto natječaju povodom obilježavanja nacionalnog programa Rođeni za čitanje!\n\n \n\n Kako sudjelovati? Od 26. do 30. siječnja 2026. (do 12 sati) u komentarima objave na FB stranici Knjižnice objavite fotografiju koja prikazuje kako čitate:\n\n \n\n svojoj djeci\n\n \n\n unucima\n\n \n\n djeci prijatelja\n\n \n\n ili\, jednostavno rečeno\, dijelite ljubav prema knjizi s najmlađima.\n\n \n\nProgram Rođeni za čitanje naglašava važnost čitanja djetetu od najranije dobi. Ljubav prema knjigama rađa se upravo u zajedničkim trenucima.\n\n \n\n Nagrada Fotografija s najviše lajkova osvaja:\n\n \n\n besplatnu obiteljsku članarinu GKSB\n\n \n\n poklon iznenađenja Zavirite u svoj album\, uhvatite novi čitateljski trenutak i podijelite tu radost s nama!  Sretno svima i neka PRIČE KRENU!
URL:https://gksb.hr/event/foto-natjecaj-rodeni-za-citanje/
CATEGORIES:Najave
ATTACH;FMTTYPE=image/png:https://gksb.hr/wp-content/uploads/2023/03/place.png
END:VEVENT
END:VCALENDAR