BEGIN:VCALENDAR
VERSION:2.0
PRODID:-//Gradska knjižnica Slavonski Brod - ECPv6.2.2.1//NONSGML v1.0//EN
CALSCALE:GREGORIAN
METHOD:PUBLISH
X-WR-CALNAME:Gradska knjižnica Slavonski Brod
X-ORIGINAL-URL:https://gksb.hr
X-WR-CALDESC:Događaji za Gradska knjižnica Slavonski Brod
REFRESH-INTERVAL;VALUE=DURATION:PT1H
X-Robots-Tag:noindex
X-PUBLISHED-TTL:PT1H
BEGIN:VTIMEZONE
TZID:Europe/Zagreb
BEGIN:DAYLIGHT
TZOFFSETFROM:+0100
TZOFFSETTO:+0200
TZNAME:CEST
DTSTART:20260329T010000
END:DAYLIGHT
BEGIN:STANDARD
TZOFFSETFROM:+0200
TZOFFSETTO:+0100
TZNAME:CET
DTSTART:20261025T010000
END:STANDARD
END:VTIMEZONE
BEGIN:VEVENT
DTSTART;TZID=Europe/Zagreb:20260416T120000
DTEND;TZID=Europe/Zagreb:20260416T130000
DTSTAMP:20260422T194511
CREATED:20260410T115154Z
LAST-MODIFIED:20260410T115154Z
UID:7178-1776340800-1776344400@gksb.hr
SUMMARY:Kako misli jure jednog malog Jure
DESCRIPTION:U sklopu manifestacije U svijetu bajki Ivane Brlić-Mažuranić u Knjižnicu nam dolazi Nikolina Manojlović Vračar  sa svojom stand-up komedijom u stihovima za djecu „Kako misli jure jednog malog Jure“\, nastalom prema istoimenoj ilustriranoj zbirci pjesama (Mala zvona\, 2012.). \nOva vesela i duhovita izvedba već je oduševila djecu u knjižnicama\, školama\, vrtićima i na festivalima\, a sada ju imate priliku pogledati u četvrtak\, 16. travnja u Velikoj dvorani s početkom u 12 sati.  Pozivamo sve da nam se pridruže na susretu punom smijeha\, stihova i mašte!
URL:https://gksb.hr/event/kako-misli-jure-jednog-malog-jure/
CATEGORIES:Najave
ATTACH;FMTTYPE=image/png:https://gksb.hr/wp-content/uploads/2026/04/Nikolina-Manojlovic-Vracar_pozivnica-1.png
END:VEVENT
BEGIN:VEVENT
DTSTART;TZID=Europe/Zagreb:20260416T180000
DTEND;TZID=Europe/Zagreb:20260416T190000
DTSTAMP:20260422T194511
CREATED:20260414T054059Z
LAST-MODIFIED:20260414T054059Z
UID:7184-1776362400-1776366000@gksb.hr
SUMMARY:Ivana Brlić-Mažuranić iza korice knjige
DESCRIPTION:Predavanje pod nazivom Ivana Brlić-Mažuranić iza korice knjige – Ivana i njezina učiteljica Marija Jambrišak održat će se 16. travnja 2026. u Multimedijalnoj dvorani knjižnice\, s početkom u 18 sati.\n\n\nDr. sc. Štefka Batinić\, doc. predavačica je koja će vas upoznati sa školstvom i obrazovanjem djevojčica u vrijeme odrastanja Ivane Brlić-Mažuranić\, kao i o važnoj ulozi njezine učiteljice Marije Jambrišak u oblikovanju njezinog intelektualnog i osobnog razvoja. Poseban naglasak bit će stavljen na društveni kontekst i mogućnosti obrazovanja žena u tom razdoblju.\n\n\nMoja st(r)anica program je koji i ove godine s predavanjem sudjeluje u manifestaciji „U svijetu bajki Ivane Brlić-Mažuranić“\, ali ulaz je slobodan za sve zainteresirane.\n\nVeselimo se vašem dolasku!
URL:https://gksb.hr/event/ivana-brlic-mazuranic-iza-korice-knjige-2/
CATEGORIES:Najave
ATTACH;FMTTYPE=image/jpeg:https://gksb.hr/wp-content/uploads/2026/04/670459545_964421986287190_6017235807607741160_n.jpg
END:VEVENT
BEGIN:VEVENT
DTSTART;TZID=Europe/Zagreb:20260417T170000
DTEND;TZID=Europe/Zagreb:20260417T180000
DTSTAMP:20260422T194511
CREATED:20260414T100629Z
LAST-MODIFIED:20260414T103117Z
UID:7187-1776445200-1776448800@gksb.hr
SUMMARY:Večer zavičajne poezije
DESCRIPTION:Pozivamo vas na večer ispunjenu stihovima i emocijama!\nU petak\, 17. travnja 2026. u 17 sati\, u Edukacijsko-multimedijalnom centru Tvrđava Brod\, očekuje vas susret s brojnim pjesnicima i bogat program uz glazbenu pratnju. \nDođite i uživajte u ljepoti zavičajne riječi.\nUlaz je slobodan!
URL:https://gksb.hr/event/vecer-zavicajne-poezije/
CATEGORIES:Najave
ATTACH;FMTTYPE=image/png:https://gksb.hr/wp-content/uploads/2026/04/VECER-ZAVICAJNE-POEZIJE-1.png
END:VEVENT
BEGIN:VEVENT
DTSTART;TZID=Europe/Zagreb:20260423T073000
DTEND;TZID=Europe/Zagreb:20260423T220000
DTSTAMP:20260422T194511
CREATED:20260417T090946Z
LAST-MODIFIED:20260417T103717Z
UID:7234-1776929400-1776981600@gksb.hr
SUMMARY:Pobratimstvo lica u sveMIRu
DESCRIPTION:Noć knjige 2026. donosi temu „Pobratimstvo lica u sveMIRu”\, koja nas poziva na promišljanje o miru\, dijalogu i zajedništvu\, o vrijednostima koje su danas potrebnije nego ikada.  \nSve su to vrijednosti koje njeguje Knjižnica.  U vremenu ubrzanih promjena i izazova\, čitanje je čin smirivanja\, ali i način da čujemo jedni druge\, učimo iz različitosti i gradimo zajedničku priču temeljenu na poštovanju i prepoznavanju.  \n Pozivamo sve ljubitelje knjige\, znatiželjnike i istraživače da nam se pridruže u bogatom programu! Budite dio ove posebne noći u kojoj zajedno stvaramo prostor dijaloga\, mira i povezanosti. \n Jer svaka pročitana priča kreira novo lice svijeta i približava nas jedne drugima
URL:https://gksb.hr/event/pobratimstvo-lica-u-svemiru/
CATEGORIES:Najave
ATTACH;FMTTYPE=image/png:https://gksb.hr/wp-content/uploads/2026/04/Noc-knjige-2026._najava-I-POZIV.png
END:VEVENT
BEGIN:VEVENT
DTSTART;TZID=Europe/Zagreb:20260423T163000
DTEND;TZID=Europe/Zagreb:20260423T170000
DTSTAMP:20260422T194511
CREATED:20260421T110231Z
LAST-MODIFIED:20260421T110231Z
UID:7241-1776961800-1776963600@gksb.hr
SUMMARY:Neposlušno mače
DESCRIPTION:Pozivamo vas na 23. travnja 2026. godine na predstavu za djecu “Neposlušno mače” Kazališna Družina Ivana Brlić-Mažuranić.\n\n\n Predstava počinje u 16\,30 sati u Multimedijalnoj dvorani Knjižnice. \n\n\nUlaz je slobodan!\n\n\n Predstava se odvija u sklopu programa Noći knjige!
URL:https://gksb.hr/event/neposlusno-mace/
CATEGORIES:Najave
ATTACH;FMTTYPE=image/png:https://gksb.hr/wp-content/uploads/2026/04/Neposlusno-mace_poziv.png
END:VEVENT
BEGIN:VEVENT
DTSTART;TZID=Europe/Zagreb:20260423T180000
DTEND;TZID=Europe/Zagreb:20260423T203000
DTSTAMP:20260422T194511
CREATED:20260417T094253Z
LAST-MODIFIED:20260417T095540Z
UID:7237-1776967200-1776976200@gksb.hr
SUMMARY:Razgovori koji pokreću: Boris Jokić o mladima i glazbi
DESCRIPTION:U sklopu Noći knjige 2026. očekuju vas dva inspirativna susreta s Borisom Jokićem – znanstvenikom i edukatorom koji otvara važne teme o mladima\, obrazovanju i svijetu koji se brzo mijenja. \nKroz razgovor i susret\, potaknut će vas na razmišljanje\, pitanja i dijalog. \nPridružite nam se… jer promjena počinje upravo razgovorom!
URL:https://gksb.hr/event/razgovori-koji-pokrecu-boris-jokic-o-mladima-i-glazbi/
CATEGORIES:Najave
ATTACH;FMTTYPE=image/png:https://gksb.hr/wp-content/uploads/2026/04/Boris-Jokic_pozivnica-3.png
END:VEVENT
END:VCALENDAR